BEGIN:VCALENDAR
VERSION:2.0
PRODID:-//time.now/holidays//NONSGML v1.0//EN
BEGIN:VEVENT
UID:0143b2a9-25aa-4b54-8e1b-7f9a4e8465fd
DTSTAMP:20260420T194352Z
DTSTART;VALUE=DATE:20260211
SUMMARY:Nukufetau Day (Tuvalu)
END:VEVENT
END:VCALENDAR