BEGIN:VCALENDAR
VERSION:2.0
PRODID:-//time.now/holidays//NONSGML v1.0//EN
BEGIN:VEVENT
UID:09e59cec-b44e-4e7c-adac-a8d20dce3ca6
DTSTAMP:20260420T193116Z
DTSTART;VALUE=DATE:20280103
SUMMARY:New Year's Day (observed) (Tuvalu)
END:VEVENT
END:VCALENDAR