BEGIN:VCALENDAR
VERSION:2.0
PRODID:-//time.now/holidays//NONSGML v1.0//EN
BEGIN:VEVENT
UID:3e731cdf-fef5-422a-bc73-d241cf8a45f7
DTSTAMP:20260420T162028Z
DTSTART;VALUE=DATE:20261228
SUMMARY:Boxing Day (observed) (Tuvalu)
END:VEVENT
END:VCALENDAR