BEGIN:VCALENDAR
VERSION:2.0
PRODID:-//time.now/holidays//NONSGML v1.0//EN
BEGIN:VEVENT
UID:8a47c9ed-8cd6-4d10-8531-b8284534c373
DTSTAMP:20260420T070704Z
DTSTART;VALUE=DATE:20260203
SUMMARY:Big Day (Tuvalu)
END:VEVENT
END:VCALENDAR