BEGIN:VCALENDAR
VERSION:2.0
PRODID:-//time.now/holidays//NONSGML v1.0//EN
BEGIN:VEVENT
UID:54bfa6ba-fc68-4816-9e53-a065732bff39
DTSTAMP:20260422T194419Z
DTSTART;VALUE=DATE:20260925
SUMMARY:National Youth Day (Islas Turcas y Caicos)
END:VEVENT
END:VCALENDAR