BEGIN:VCALENDAR
VERSION:2.0
PRODID:-//time.now/holidays//NONSGML v1.0//EN
BEGIN:VEVENT
UID:aa247779-5a8e-4ac1-b729-17af5e8a28f8
DTSTAMP:20260422T142042Z
DTSTART;VALUE=DATE:20261127
SUMMARY:National Day of Thanksgiving (Islas Turcas y Caicos)
END:VEVENT
END:VCALENDAR