BEGIN:VCALENDAR
VERSION:2.0
PRODID:-//time.now/holidays//NONSGML v1.0//EN
BEGIN:VEVENT
UID:3e0c450b-0404-474f-8eac-8f8cfd70ea76
DTSTAMP:20260422T193221Z
DTSTART;VALUE=DATE:20260406
SUMMARY:Easter Monday (Islas Turcas y Caicos)
END:VEVENT
END:VCALENDAR