BEGIN:VCALENDAR
VERSION:2.0
PRODID:-//time.now/holidays//NONSGML v1.0//EN
BEGIN:VEVENT
UID:91f01ca6-bef8-4311-a367-ec60d59c4e8a
DTSTAMP:20260420T230910Z
DTSTART;VALUE=DATE:20271227
SUMMARY:Christmas Day (observed) (Islas Turcas y Caicos)
END:VEVENT
END:VCALENDAR