BEGIN:VCALENDAR
VERSION:2.0
PRODID:-//time.now/holidays//NONSGML v1.0//EN
BEGIN:VEVENT
UID:a8f1faa1-17b0-4514-9e68-77170ce8cd02
DTSTAMP:20260422T085752Z
DTSTART;VALUE=DATE:20261226
SUMMARY:Boxing Day (Islas Turcas y Caicos)
END:VEVENT
END:VCALENDAR