BEGIN:VCALENDAR
VERSION:2.0
PRODID:-//time.now/holidays//NONSGML v1.0//EN
BEGIN:VEVENT
UID:0aef8201-0aba-4072-af12-773ad3e81dae
DTSTAMP:20260422T102755Z
DTSTART;VALUE=DATE:20260423
SUMMARY:National Sovereignty and Children's Day (Turquía)
END:VEVENT
END:VCALENDAR