BEGIN:VCALENDAR
VERSION:2.0
PRODID:-//time.now/holidays//NONSGML v1.0//EN
BEGIN:VEVENT
UID:43affa5f-5b71-4c46-a954-6059270c427c
DTSTAMP:20260420T193827Z
DTSTART;VALUE=DATE:20260527
SUMMARY:Eid al-Adha (Turquía)
END:VEVENT
END:VCALENDAR