BEGIN:VCALENDAR
VERSION:2.0
PRODID:-//time.now/holidays//NONSGML v1.0//EN
BEGIN:VEVENT
UID:28063b12-8916-44df-87e6-442c78af7c7d
DTSTAMP:20260421T025126Z
DTSTART;VALUE=DATE:20270519
SUMMARY:Commemoration of Atatürk, Youth and Sports Day; Eid al-Adha (Turquía)
END:VEVENT
END:VCALENDAR