BEGIN:VCALENDAR
VERSION:2.0
PRODID:-//time.now/holidays//NONSGML v1.0//EN
BEGIN:VEVENT
UID:a320aacb-066e-440e-8e59-be6bda7e640c
DTSTAMP:20260422T090720Z
DTSTART;VALUE=DATE:20260114
SUMMARY:Revolution and Youth Day (Túnez)
END:VEVENT
END:VCALENDAR