BEGIN:VCALENDAR
VERSION:2.0
PRODID:-//time.now/holidays//NONSGML v1.0//EN
BEGIN:VEVENT
UID:b84e78e9-72f4-406c-8da8-f6b3b648ba22
DTSTAMP:20260420T110001Z
DTSTART;VALUE=DATE:20260409
SUMMARY:Martyrs' Day (Túnez)
END:VEVENT
END:VCALENDAR