BEGIN:VCALENDAR
VERSION:2.0
PRODID:-//time.now/holidays//NONSGML v1.0//EN
BEGIN:VEVENT
UID:751fccb0-bce6-473e-9ef7-4c685c5bfcb5
DTSTAMP:20260420T073658Z
DTSTART;VALUE=DATE:20260501
SUMMARY:Labor Day (Túnez)
END:VEVENT
END:VCALENDAR