BEGIN:VCALENDAR
VERSION:2.0
PRODID:-//time.now/holidays//NONSGML v1.0//EN
BEGIN:VEVENT
UID:210f360d-f2d1-4430-9927-062a0e42eec3
DTSTAMP:20260423T030404Z
DTSTART;VALUE=DATE:20280925
SUMMARY:Republic Day (observed) (Trinidad y Tobago)
END:VEVENT
END:VCALENDAR