BEGIN:VCALENDAR
VERSION:2.0
PRODID:-//time.now/holidays//NONSGML v1.0//EN
BEGIN:VEVENT
UID:0ad7e837-1f87-47a0-90c9-40c95ab51f19
DTSTAMP:20260421T005744Z
DTSTART;VALUE=DATE:20340102
SUMMARY:New Year's Day (observed) (Trinidad y Tobago)
END:VEVENT
END:VCALENDAR