BEGIN:VCALENDAR
VERSION:2.0
PRODID:-//time.now/holidays//NONSGML v1.0//EN
BEGIN:VEVENT
UID:44897305-a7b1-4170-9367-6ac3c52a9091
DTSTAMP:20260422T091625Z
DTSTART;VALUE=DATE:20260530
SUMMARY:Indian Arrival Day (Trinidad y Tobago)
END:VEVENT
END:VCALENDAR