BEGIN:VCALENDAR
VERSION:2.0
PRODID:-//time.now/holidays//NONSGML v1.0//EN
BEGIN:VEVENT
UID:2fd0650f-8ef2-4a08-b3d3-a573bbb60440
DTSTAMP:20260422T134442Z
DTSTART;VALUE=DATE:20260403
SUMMARY:Good Friday (Trinidad y Tobago)
END:VEVENT
END:VCALENDAR