BEGIN:VCALENDAR
VERSION:2.0
PRODID:-//time.now/holidays//NONSGML v1.0//EN
BEGIN:VEVENT
UID:dc65cff3-74a5-4aea-8a3e-55010fa59744
DTSTAMP:20260422T105204Z
DTSTART;VALUE=DATE:20250620
SUMMARY:Corpus Christi (observed); Labor Day (observed) (Trinidad y Tobago)
END:VEVENT
END:VCALENDAR