BEGIN:VCALENDAR
VERSION:2.0
PRODID:-//time.now/holidays//NONSGML v1.0//EN
BEGIN:VEVENT
UID:65097807-23d3-4d6c-b2ac-5ae7ff5edc61
DTSTAMP:20260422T105918Z
DTSTART;VALUE=DATE:20331227
SUMMARY:Christmas Day (observed) (Trinidad y Tobago)
END:VEVENT
END:VCALENDAR