BEGIN:VCALENDAR
VERSION:2.0
PRODID:-//time.now/holidays//NONSGML v1.0//EN
BEGIN:VEVENT
UID:be29bb74-5251-4e7e-8aad-8cffa14beb75
DTSTAMP:20260419T215330Z
DTSTART;VALUE=DATE:20260403
SUMMARY:Good Friday (Tonga)
END:VEVENT
END:VCALENDAR