BEGIN:VCALENDAR
VERSION:2.0
PRODID:-//time.now/holidays//NONSGML v1.0//EN
BEGIN:VEVENT
UID:329f5a52-4b53-455e-95fc-8979450d7ab1
DTSTAMP:20260420T013904Z
DTSTART;VALUE=DATE:20260608
SUMMARY:Emancipation Day (observed) (Tonga)
END:VEVENT
END:VCALENDAR