BEGIN:VCALENDAR
VERSION:2.0
PRODID:-//time.now/holidays//NONSGML v1.0//EN
BEGIN:VEVENT
UID:acc6a237-79bc-4be2-a55d-f5c243d012df
DTSTAMP:20260420T010214Z
DTSTART;VALUE=DATE:20261226
SUMMARY:Boxing Day (Tonga)
END:VEVENT
END:VCALENDAR