BEGIN:VCALENDAR
VERSION:2.0
PRODID:-//time.now/holidays//NONSGML v1.0//EN
BEGIN:VEVENT
UID:f9ce2f93-ab1d-4061-a772-3449511a5260
DTSTAMP:20260419T174524Z
DTSTART;VALUE=DATE:20211227
SUMMARY:Boxing Day (observed) (Tonga)
END:VEVENT
END:VCALENDAR