BEGIN:VCALENDAR
VERSION:2.0
PRODID:-//time.now/holidays//NONSGML v1.0//EN
BEGIN:VEVENT
UID:abf41c7c-6bfb-4ed8-aab7-6efbfb5648a7
DTSTAMP:20260420T024318Z
DTSTART;VALUE=DATE:20260406
SUMMARY:Easter Monday (Togo)
END:VEVENT
END:VCALENDAR