BEGIN:VCALENDAR
VERSION:2.0
PRODID:-//time.now/holidays//NONSGML v1.0//EN
BEGIN:VEVENT
UID:3fed891d-faeb-4d39-a4f5-8859d12f6f8b
DTSTAMP:20260420T163132Z
DTSTART;VALUE=DATE:20261101
SUMMARY:All Saints' Day (Togo)
END:VEVENT
END:VCALENDAR