BEGIN:VCALENDAR
VERSION:2.0
PRODID:-//time.now/holidays//NONSGML v1.0//EN
BEGIN:VEVENT
UID:1824ce9c-27c5-4fa5-8fc4-262e555017c9
DTSTAMP:20260420T075038Z
DTSTART;VALUE=DATE:20260403
SUMMARY:Holy Friday (Timor-Leste)
END:VEVENT
END:VCALENDAR