BEGIN:VCALENDAR
VERSION:2.0
PRODID:-//time.now/holidays//NONSGML v1.0//EN
BEGIN:VEVENT
UID:62fe190a-6242-4863-bac9-d7b2766fed94
DTSTAMP:20260420T185519Z
DTSTART;VALUE=DATE:20260527
SUMMARY:Eid al-Adha (estimated) (Timor-Leste)
END:VEVENT
END:VCALENDAR