BEGIN:VCALENDAR
VERSION:2.0
PRODID:-//time.now/holidays//NONSGML v1.0//EN
BEGIN:VEVENT
UID:0200bea0-9d58-4b19-927f-a441d001a2d5
DTSTAMP:20260421T005446Z
DTSTART;VALUE=DATE:20261208
SUMMARY:Day of Our Lady of Immaculate Conception and Timor-Leste Patroness (Timor-Leste)
END:VEVENT
END:VCALENDAR