BEGIN:VCALENDAR
VERSION:2.0
PRODID:-//time.now/holidays//NONSGML v1.0//EN
BEGIN:VEVENT
UID:9f1cb71b-ace3-41ed-bf08-ac01ff80c779
DTSTAMP:20260422T104104Z
DTSTART;VALUE=DATE:20280417
SUMMARY:Songkran Festival (in lieu) (Tailandia)
END:VEVENT
END:VCALENDAR