BEGIN:VCALENDAR
VERSION:2.0
PRODID:-//time.now/holidays//NONSGML v1.0//EN
BEGIN:VEVENT
UID:0459f87c-4a7e-49bc-9535-ce1a3ac884e5
DTSTAMP:20260420T203618Z
DTSTART;VALUE=DATE:20261231
SUMMARY:New Year's Eve (Tailandia)
END:VEVENT
END:VCALENDAR