BEGIN:VCALENDAR
VERSION:2.0
PRODID:-//time.now/holidays//NONSGML v1.0//EN
BEGIN:VEVENT
UID:ad356734-9810-4b11-8c77-c60dbb364cfb
DTSTAMP:20260422T105336Z
DTSTART;VALUE=DATE:20290102
SUMMARY:New Year's Eve (in lieu) (Tailandia)
END:VEVENT
END:VCALENDAR