BEGIN:VCALENDAR
VERSION:2.0
PRODID:-//time.now/holidays//NONSGML v1.0//EN
BEGIN:VEVENT
UID:5cdf75eb-4ed7-4a5f-a0f8-7b807cef7b4c
DTSTAMP:20260420T111439Z
DTSTART;VALUE=DATE:20260303
SUMMARY:Makha Bucha (Tailandia)
END:VEVENT
END:VCALENDAR