BEGIN:VCALENDAR
VERSION:2.0
PRODID:-//time.now/holidays//NONSGML v1.0//EN
BEGIN:VEVENT
UID:b2494cef-eb9f-4449-8807-209cf2e487d1
DTSTAMP:20260421T035630Z
DTSTART;VALUE=DATE:20290730
SUMMARY:HM King Maha Vajiralongkorn's Birthday (in lieu) (Tailandia)
END:VEVENT
END:VCALENDAR