BEGIN:VCALENDAR
VERSION:2.0
PRODID:-//time.now/holidays//NONSGML v1.0//EN
BEGIN:VEVENT
UID:b1e26a5e-9782-488d-b06d-b3217cde7e75
DTSTAMP:20260422T032614Z
DTSTART;VALUE=DATE:20261023
SUMMARY:HM King Chulalongkorn Memorial Day (Tailandia)
END:VEVENT
END:VCALENDAR