BEGIN:VCALENDAR
VERSION:2.0
PRODID:-//time.now/holidays//NONSGML v1.0//EN
BEGIN:VEVENT
UID:75d63394-4f55-4033-8dff-4bc0d69f886e
DTSTAMP:20260422T105201Z
DTSTART;VALUE=DATE:20271025
SUMMARY:HM King Chulalongkorn Memorial Day (in lieu) (Tailandia)
END:VEVENT
END:VCALENDAR