BEGIN:VCALENDAR
VERSION:2.0
PRODID:-//time.now/holidays//NONSGML v1.0//EN
BEGIN:VEVENT
UID:daf3b776-e9cf-413f-8339-3d20e6234fd7
DTSTAMP:20260422T105205Z
DTSTART;VALUE=DATE:20221013
SUMMARY:HM King Bhumibol Adulyadej the Great Memorial Day (Tailandia)
END:VEVENT
END:VCALENDAR