BEGIN:VCALENDAR
VERSION:2.0
PRODID:-//time.now/holidays//NONSGML v1.0//EN
BEGIN:VEVENT
UID:1f828ab3-9aff-4e7c-8010-763b206448eb
DTSTAMP:20260420T230901Z
DTSTART;VALUE=DATE:20261013
SUMMARY:HM King Bhumibol Adulyadej Memorial Day (Tailandia)
END:VEVENT
END:VCALENDAR