BEGIN:VCALENDAR
VERSION:2.0
PRODID:-//time.now/holidays//NONSGML v1.0//EN
BEGIN:VEVENT
UID:2d9bd133-5e56-40df-99be-b93826524520
DTSTAMP:20260420T215351Z
DTSTART;VALUE=DATE:20300506
SUMMARY:Coronation Day (in lieu) (Tailandia)
END:VEVENT
END:VCALENDAR