BEGIN:VCALENDAR
VERSION:2.0
PRODID:-//time.now/holidays//NONSGML v1.0//EN
BEGIN:VEVENT
UID:5d47c64c-04d0-408d-b8f3-6365d6560de8
DTSTAMP:20260420T195342Z
DTSTART;VALUE=DATE:20260102
SUMMARY:Bridge Public Holiday (Tailandia)
END:VEVENT
END:VCALENDAR