BEGIN:VCALENDAR
VERSION:2.0
PRODID:-//time.now/holidays//NONSGML v1.0//EN
BEGIN:VEVENT
UID:641e9ad2-9e5f-45ac-be3d-802692acd984
DTSTAMP:20260422T085834Z
DTSTART;VALUE=DATE:20270720
SUMMARY:Asarnha Bucha (in lieu) (Tailandia)
END:VEVENT
END:VCALENDAR