BEGIN:VCALENDAR
VERSION:2.0
PRODID:-//time.now/holidays//NONSGML v1.0//EN
BEGIN:VEVENT
UID:e24e6ad1-4ff7-49bb-9726-1144a7f3e5e8
DTSTAMP:20260422T085706Z
DTSTART;VALUE=DATE:20261209
SUMMARY:Independence and Republic Day (Tanzania)
END:VEVENT
END:VCALENDAR