BEGIN:VCALENDAR
VERSION:2.0
PRODID:-//time.now/holidays//NONSGML v1.0//EN
BEGIN:VEVENT
UID:ee946512-fed8-4d8f-940a-c09b51d46283
DTSTAMP:20260420T072803Z
DTSTART;VALUE=DATE:20260403
SUMMARY:Good Friday (Tanzania)
END:VEVENT
END:VCALENDAR