BEGIN:VCALENDAR
VERSION:2.0
PRODID:-//time.now/holidays//NONSGML v1.0//EN
BEGIN:VEVENT
UID:7f8287ee-48d0-4f88-a84b-ff86963c1f3e
DTSTAMP:20260422T134217Z
DTSTART;VALUE=DATE:20240410
SUMMARY:Eid al-Fitr (Tanzania)
END:VEVENT
END:VCALENDAR