BEGIN:VCALENDAR
VERSION:2.0
PRODID:-//time.now/holidays//NONSGML v1.0//EN
BEGIN:VEVENT
UID:c6b411bb-5f00-4800-9e78-ca72c00ba7bb
DTSTAMP:20260422T090622Z
DTSTART;VALUE=DATE:20260320
SUMMARY:Eid al-Fitr (estimated) (Tanzania)
END:VEVENT
END:VCALENDAR