BEGIN:VCALENDAR
VERSION:2.0
PRODID:-//time.now/holidays//NONSGML v1.0//EN
BEGIN:VEVENT
UID:c2b222c1-c9d7-4e9c-9977-0c140553a3d6
DTSTAMP:20260420T171612Z
DTSTART;VALUE=DATE:20230629
SUMMARY:Eid al-Adha (Tanzania)
END:VEVENT
END:VCALENDAR