BEGIN:VCALENDAR
VERSION:2.0
PRODID:-//time.now/holidays//NONSGML v1.0//EN
BEGIN:VEVENT
UID:7984d547-394a-420d-ba21-f32fb90d6c24
DTSTAMP:20260420T185243Z
DTSTART;VALUE=DATE:20261225
SUMMARY:Christmas Day (Tanzania)
END:VEVENT
END:VCALENDAR