BEGIN:VCALENDAR
VERSION:2.0
PRODID:-//time.now/holidays//NONSGML v1.0//EN
BEGIN:VEVENT
UID:33e2744a-6b18-4d52-b977-9fb9a06000f6
DTSTAMP:20260420T192446Z
DTSTART;VALUE=DATE:20260406
SUMMARY:Tomb-Sweeping Day (observed) (Taiwán)
END:VEVENT
END:VCALENDAR