BEGIN:VCALENDAR
VERSION:2.0
PRODID:-//time.now/holidays//NONSGML v1.0//EN
BEGIN:VEVENT
UID:648d1125-58b6-4be2-95e4-7bf9c2e7db7f
DTSTAMP:20260420T171246Z
DTSTART;VALUE=DATE:20260228
SUMMARY:Peace Memorial Day (Taiwán)
END:VEVENT
END:VCALENDAR